BEGIN:VCALENDAR
VERSION:2.0
PRODID:-//NEW BIRTH - ECPv6.15.20//NONSGML v1.0//EN
CALSCALE:GREGORIAN
METHOD:PUBLISH
X-ORIGINAL-URL:https://newbirth.org
X-WR-CALDESC:Events for NEW BIRTH
REFRESH-INTERVAL;VALUE=DURATION:PT1H
X-Robots-Tag:noindex
X-PUBLISHED-TTL:PT1H
BEGIN:VTIMEZONE
TZID:America/New_York
BEGIN:DAYLIGHT
TZOFFSETFROM:-0500
TZOFFSETTO:-0400
TZNAME:EDT
DTSTART:20240310T070000
END:DAYLIGHT
BEGIN:STANDARD
TZOFFSETFROM:-0400
TZOFFSETTO:-0500
TZNAME:EST
DTSTART:20241103T060000
END:STANDARD
BEGIN:DAYLIGHT
TZOFFSETFROM:-0500
TZOFFSETTO:-0400
TZNAME:EDT
DTSTART:20250309T070000
END:DAYLIGHT
BEGIN:STANDARD
TZOFFSETFROM:-0400
TZOFFSETTO:-0500
TZNAME:EST
DTSTART:20251102T060000
END:STANDARD
BEGIN:DAYLIGHT
TZOFFSETFROM:-0500
TZOFFSETTO:-0400
TZNAME:EDT
DTSTART:20260308T070000
END:DAYLIGHT
BEGIN:STANDARD
TZOFFSETFROM:-0400
TZOFFSETTO:-0500
TZNAME:EST
DTSTART:20261101T060000
END:STANDARD
END:VTIMEZONE
BEGIN:VEVENT
DTSTART;TZID=America/New_York:20250713T113000
DTEND;TZID=America/New_York:20250713T130000
DTSTAMP:20260425T115618
CREATED:20250705T164256Z
LAST-MODIFIED:20250710T155058Z
UID:10015003-1752406200-1752411600@newbirth.org
SUMMARY:The Road to Emmaus: I am Saved Now What?
DESCRIPTION:Presented by The Believer’s Circle Ministry\nScripture Focus: Luke 24:13–35 \nWhen the two men walked the road to Emmaus\, they were broken and confused. But then Jesus showed up. He didn’t just walk with them — He opened the Scriptures\, revealed Himself\, and ignited a fire in their hearts. Their confusion turned into clarity\, and their sorrow into purpose. They couldn’t keep the encounter to themselves — they ran to tell others. \nThis is the experience we are creating for YOU. \nWho Should Attend?\nNew converts who have recently accepted Christ. \nNew members who are beginning their spiritual journey. \nAnyone asking\, “What’s next?” after salvation. \nWhy Attend?\nThis transformational event is designed to: \nGuide you through your next steps as a believer. \nHelp you understand the power and purpose of your salvation. \nEquip you to confidently share your faith with others. \nCreate a community of fellow believers who are walking the same road. \nWhat to Expect\nIntimate teaching based on Luke 24:13–35. \nTestimonies from others who have found their next step. \nTools and resources to continue walking with Jesus — and leading others to Him. \nCome Encounter Jesus Again… and Empower Others to Do the Same.\nMore information Here 
URL:https://newbirth.org/event/the-road-to-emmaus-i-am-saved-now-what/
LOCATION:New Birth Chapel\, 6400 Woodrow Rd\, Stonecrest\, GA\, 30038
CATEGORIES:Announcement,Believer's Circle,Christian Education,Home,Outreach
ATTACH;FMTTYPE=image/png:https://newbirth.org/wp-content/uploads/2025/07/RTE-Web-Banner-1.png
END:VEVENT
END:VCALENDAR