BEGIN:VCALENDAR
VERSION:2.0
PRODID:-//NEW BIRTH - ECPv6.15.17.1//NONSGML v1.0//EN
CALSCALE:GREGORIAN
METHOD:PUBLISH
X-ORIGINAL-URL:https://newbirth.org
X-WR-CALDESC:Events for NEW BIRTH
REFRESH-INTERVAL;VALUE=DURATION:PT1H
X-Robots-Tag:noindex
X-PUBLISHED-TTL:PT1H
BEGIN:VTIMEZONE
TZID:America/New_York
BEGIN:DAYLIGHT
TZOFFSETFROM:-0500
TZOFFSETTO:-0400
TZNAME:EDT
DTSTART:20230312T070000
END:DAYLIGHT
BEGIN:STANDARD
TZOFFSETFROM:-0400
TZOFFSETTO:-0500
TZNAME:EST
DTSTART:20231105T060000
END:STANDARD
BEGIN:DAYLIGHT
TZOFFSETFROM:-0500
TZOFFSETTO:-0400
TZNAME:EDT
DTSTART:20240310T070000
END:DAYLIGHT
BEGIN:STANDARD
TZOFFSETFROM:-0400
TZOFFSETTO:-0500
TZNAME:EST
DTSTART:20241103T060000
END:STANDARD
BEGIN:DAYLIGHT
TZOFFSETFROM:-0500
TZOFFSETTO:-0400
TZNAME:EDT
DTSTART:20250309T070000
END:DAYLIGHT
BEGIN:STANDARD
TZOFFSETFROM:-0400
TZOFFSETTO:-0500
TZNAME:EST
DTSTART:20251102T060000
END:STANDARD
END:VTIMEZONE
BEGIN:VEVENT
DTSTART;TZID=America/New_York:20241014T090000
DTEND;TZID=America/New_York:20241014T140000
DTSTAMP:20260419T150253
CREATED:20241010T171605Z
LAST-MODIFIED:20241010T171637Z
UID:10012753-1728896400-1728914400@newbirth.org
SUMMARY:9th Annual FREE College Scholarship Fair
DESCRIPTION:The largest FREE College Scholarship Fair in the United States is coming back to New Birth. \nWe have helped 7\,944 High School Students attend college on either a Presidential Scholarship\, Full Scholarship or Partial Scholarship with awards totaling $144 million dollars in 7 years. \n60 Colleges and Universities will be on site ready to offer college scholarships on the spot. \n#hopeafterhighschool \nStudents need to bring: \n\nMultiple copies of Transcript\nACT/SAT Test Scores (Optional)\nTwo Letters of Recommendation\nA Resume\nAn Essay Titled:  “Why I Want to Attend College”\n\nStudents Register Here
URL:https://newbirth.org/event/9th-annual-free-college-scholarship-fair-2/
LOCATION:Bishop Eddie L. Long Family Life Center\, 6400 Woodrow Rd\, Stonecrest\, 30038
CATEGORIES:Announcement,Emerging Generations,Family,Home
ATTACH;FMTTYPE=image/jpeg:https://newbirth.org/wp-content/uploads/2024/10/College-Fair-2024-e1728580529344.jpg
END:VEVENT
BEGIN:VEVENT
DTSTART;TZID=America/New_York:20241015T090000
DTEND;TZID=America/New_York:20241015T140000
DTSTAMP:20260419T150253
CREATED:20241010T171542Z
LAST-MODIFIED:20241010T171542Z
UID:10012754-1728982800-1729000800@newbirth.org
SUMMARY:9th Annual FREE College Scholarship Fair
DESCRIPTION:The largest FREE College Scholarship Fair in the United States is coming back to New Birth. \nWe have helped 7\,944 High School Students attend college on either a Presidential Scholarship\, Full Scholarship or Partial Scholarship with awards totaling $144 million dollars in 7 years. \n60 Colleges and Universities will be on site ready to offer college scholarships on the spot. \n#hopeafterhighschool \nStudents need to bring: \n\nMultiple copies of Transcript\nACT/SAT Test Scores (Optional)\nTwo Letters of Recommendation\nA Resume\nAn Essay Titled:  “Why I Want to Attend College”\n\nStudents Register Here
URL:https://newbirth.org/event/9th-annual-free-college-scholarship-fair/2024-10-15/
LOCATION:Bishop Eddie L. Long Family Life Center\, 6400 Woodrow Rd\, Stonecrest\, 30038
CATEGORIES:Announcement,Emerging Generations,Family,Home
ATTACH;FMTTYPE=image/jpeg:https://newbirth.org/wp-content/uploads/2024/10/College-Fair-2024-e1728580529344.jpg
END:VEVENT
BEGIN:VEVENT
DTSTART;TZID=America/New_York:20241016T090000
DTEND;TZID=America/New_York:20241016T140000
DTSTAMP:20260419T150253
CREATED:20241010T171542Z
LAST-MODIFIED:20241010T171542Z
UID:10012755-1729069200-1729087200@newbirth.org
SUMMARY:9th Annual FREE College Scholarship Fair
DESCRIPTION:The largest FREE College Scholarship Fair in the United States is coming back to New Birth. \nWe have helped 7\,944 High School Students attend college on either a Presidential Scholarship\, Full Scholarship or Partial Scholarship with awards totaling $144 million dollars in 7 years. \n60 Colleges and Universities will be on site ready to offer college scholarships on the spot. \n#hopeafterhighschool \nStudents need to bring: \n\nMultiple copies of Transcript\nACT/SAT Test Scores (Optional)\nTwo Letters of Recommendation\nA Resume\nAn Essay Titled:  “Why I Want to Attend College”\n\nStudents Register Here
URL:https://newbirth.org/event/9th-annual-free-college-scholarship-fair/2024-10-16/
LOCATION:Bishop Eddie L. Long Family Life Center\, 6400 Woodrow Rd\, Stonecrest\, 30038
CATEGORIES:Announcement,Emerging Generations,Family,Home
ATTACH;FMTTYPE=image/jpeg:https://newbirth.org/wp-content/uploads/2024/10/College-Fair-2024-e1728580529344.jpg
END:VEVENT
BEGIN:VEVENT
DTSTART;TZID=America/New_York:20241017T090000
DTEND;TZID=America/New_York:20241017T140000
DTSTAMP:20260419T150253
CREATED:20241010T171542Z
LAST-MODIFIED:20241010T171542Z
UID:10012756-1729155600-1729173600@newbirth.org
SUMMARY:9th Annual FREE College Scholarship Fair
DESCRIPTION:The largest FREE College Scholarship Fair in the United States is coming back to New Birth. \nWe have helped 7\,944 High School Students attend college on either a Presidential Scholarship\, Full Scholarship or Partial Scholarship with awards totaling $144 million dollars in 7 years. \n60 Colleges and Universities will be on site ready to offer college scholarships on the spot. \n#hopeafterhighschool \nStudents need to bring: \n\nMultiple copies of Transcript\nACT/SAT Test Scores (Optional)\nTwo Letters of Recommendation\nA Resume\nAn Essay Titled:  “Why I Want to Attend College”\n\nStudents Register Here
URL:https://newbirth.org/event/9th-annual-free-college-scholarship-fair/2024-10-17/
LOCATION:Bishop Eddie L. Long Family Life Center\, 6400 Woodrow Rd\, Stonecrest\, 30038
CATEGORIES:Announcement,Emerging Generations,Family,Home
ATTACH;FMTTYPE=image/jpeg:https://newbirth.org/wp-content/uploads/2024/10/College-Fair-2024-e1728580529344.jpg
END:VEVENT
END:VCALENDAR