BEGIN:VCALENDAR
VERSION:2.0
PRODID:-//NEW BIRTH - ECPv6.15.20//NONSGML v1.0//EN
CALSCALE:GREGORIAN
METHOD:PUBLISH
X-ORIGINAL-URL:https://newbirth.org
X-WR-CALDESC:Events for NEW BIRTH
REFRESH-INTERVAL;VALUE=DURATION:PT1H
X-Robots-Tag:noindex
X-PUBLISHED-TTL:PT1H
BEGIN:VTIMEZONE
TZID:America/New_York
BEGIN:DAYLIGHT
TZOFFSETFROM:-0500
TZOFFSETTO:-0400
TZNAME:EDT
DTSTART:20240310T070000
END:DAYLIGHT
BEGIN:STANDARD
TZOFFSETFROM:-0400
TZOFFSETTO:-0500
TZNAME:EST
DTSTART:20241103T060000
END:STANDARD
BEGIN:DAYLIGHT
TZOFFSETFROM:-0500
TZOFFSETTO:-0400
TZNAME:EDT
DTSTART:20250309T070000
END:DAYLIGHT
BEGIN:STANDARD
TZOFFSETFROM:-0400
TZOFFSETTO:-0500
TZNAME:EST
DTSTART:20251102T060000
END:STANDARD
BEGIN:DAYLIGHT
TZOFFSETFROM:-0500
TZOFFSETTO:-0400
TZNAME:EDT
DTSTART:20260308T070000
END:DAYLIGHT
BEGIN:STANDARD
TZOFFSETFROM:-0400
TZOFFSETTO:-0500
TZNAME:EST
DTSTART:20261101T060000
END:STANDARD
END:VTIMEZONE
BEGIN:VEVENT
DTSTART;VALUE=DATE:20250901
DTEND;VALUE=DATE:20250912
DTSTAMP:20260422T191900
CREATED:20250821T144102Z
LAST-MODIFIED:20250911T233943Z
UID:10015376-1756684800-1757635199@newbirth.org
SUMMARY:Reinvigorate Live Chat | Thursday\, September 11 | Streaming on Instagram Live @ 7:30 PM
DESCRIPTION:Ladies\, mark your calendars! Join First Lady\, Dr. Karri Bryant and Dr. Thema Bryant\, author of Matters of the Heart\, for a powerful Live Chat. \nJoin us Thursday\, Sept 11 at 7:30 PM for an engaging discussion of the September Book of the Month. Connect with others\, gain fresh insights\, and explore how the bookspeaks to your life and faith journey. \nDon’t miss it\, purchase your copy today so you’re ready to join the conversation: https://bit.ly/nbbookofthemonth. \nSecure your copy today and complete your reading by September 11. \nStreaming on Instagram Live
URL:https://newbirth.org/event/reinvigorate-live-chat-thursday-september-11-streaming-on-instagram-live-730-pm/
CATEGORIES:Announcement,Home,Special Event,Women
ATTACH;FMTTYPE=image/jpeg:https://newbirth.org/wp-content/uploads/2025/08/Reinvigorate-Live-Chat-with-Pastor-Karri-and-Dr.-Thema-Web-Banner--e1755787083595.jpg
END:VEVENT
BEGIN:VEVENT
DTSTART;VALUE=DATE:20250901
DTEND;VALUE=DATE:20251001
DTSTAMP:20260422T191900
CREATED:20250831T175242Z
LAST-MODIFIED:20250831T175418Z
UID:10015673-1756684800-1759276799@newbirth.org
SUMMARY:Women's Emphasis Month! | Download the Booklet
DESCRIPTION:https://newbirth.org/reinvigorate/ \nDownload the Booklet for details for Women’s Emphasis Month!\nReinvigorate Booklet 2025
URL:https://newbirth.org/event/womens-emphasis-month-download-the-booklet/
CATEGORIES:Announcement,Event,Home,Special Event,Women
ATTACH;FMTTYPE=image/jpeg:https://newbirth.org/wp-content/uploads/2025/07/Reinvigorate-Save-the-Date-with-Dr.-Karri-1920x1080-new-e1753458161604.jpg
END:VEVENT
BEGIN:VEVENT
DTSTART;TZID=America/New_York:20250906T090000
DTEND;TZID=America/New_York:20250906T110000
DTSTAMP:20260422T191900
CREATED:20221104T130521Z
LAST-MODIFIED:20251110T215953Z
UID:10015065-1757149200-1757156400@newbirth.org
SUMMARY:The King's Table
DESCRIPTION:Tell everyone you know to pull-up and pop their trunks on the first and third Saturdays for free groceries. The King’s Table drive-through food distribution begins at 9:00 AM and continues on a first come\, first served basis while supplies last. \nVolunteers are needed! Register here to volunteer at The King’s Table. \nCorporate sponsors and community partners are welcome. Email inquiries to thekingstable@newbirth.org\nTo donate to The King’s Table\, please click here. \n 
URL:https://newbirth.org/event/the-kings-table/2025-09-06/
LOCATION:Bishop Eddie L. Long Family Life Center\, 6400 Woodrow Rd\, Stonecrest\, 30038
CATEGORIES:Announcement,Home,Outreach,The King's Table
ATTACH;FMTTYPE=image/jpeg:https://newbirth.org/wp-content/uploads/2025/05/TKT-August-2025-e1753979580189.jpeg
END:VEVENT
BEGIN:VEVENT
DTSTART;TZID=America/New_York:20250906T093000
DTEND;TZID=America/New_York:20250906T103000
DTSTAMP:20260422T191900
CREATED:20250816T221431Z
LAST-MODIFIED:20251219T164654Z
UID:10015125-1757151000-1757154600@newbirth.org
SUMMARY:1st Saturday Corporate Prayer
DESCRIPTION:Join us for guided prayer the 1st Saturday of every month.
URL:https://newbirth.org/event/1st-saturday-corporate-prayer/2025-09-06/
LOCATION:New Birth Chapel\, 6400 Woodrow Rd\, Stonecrest\, GA\, 30038
CATEGORIES:Announcement,Home,Prayer
ATTACH;FMTTYPE=image/png:https://newbirth.org/wp-content/uploads/2024/03/Header-Logo-copy-inv.png
END:VEVENT
BEGIN:VEVENT
DTSTART;TZID=America/New_York:20250914T081500
DTEND;TZID=America/New_York:20250914T091500
DTSTAMP:20260422T191900
CREATED:20250821T175827Z
LAST-MODIFIED:20250821T180807Z
UID:10015379-1757837700-1757841300@newbirth.org
SUMMARY:Adult Sunday School
DESCRIPTION:You’re Invited to Adult Sunday School!Join us 2nd\, 3rd and 4th Sundays at 8:15 AM for SEEED\, a study designed to: \nStudy God’s WordEquip believers for lifeEmpower discipleshipEngage in fellowshipDisciple others in love \nCome grow with us as we build faith\, community\, and purpose together.
URL:https://newbirth.org/event/adult-sunday-school/2025-09-14/
LOCATION:Outreach Resolution Room
CATEGORIES:Announcement,Home,Outreach
ATTACH;FMTTYPE=image/png:https://newbirth.org/wp-content/uploads/2025/08/Sunday-School-Web-Banner-e1755799403555.png
END:VEVENT
BEGIN:VEVENT
DTSTART;TZID=America/New_York:20250914T093000
DTEND;TZID=America/New_York:20250914T113000
DTSTAMP:20260422T191900
CREATED:20250908T212219Z
LAST-MODIFIED:20250914T175644Z
UID:10015680-1757842200-1757849400@newbirth.org
SUMMARY:EMERGING GENERATIONS IS BACK! Join us for ARK Adventures!
DESCRIPTION:We are Ready to Equip\, Engage\, and Empower through:\n– Dynamic\, age-appropriate programming\n– Biblical foundation and spiritual growth\n– Fun\, interactive activities and community building\n– Caring\, experienced ministry leaders \nAll existing and new families\, MUST REGISTER HERE \nThis registration helps us:\n– Get to know your family better\n– Ensure proper planning for all activities\n– Keep you updated on upcoming events and programs\n– Provide the best possible experience for your children \nQuestions? We’re Here to Help! \nPlease feel free to reach out to emerginggenerations@newbirth.org\, if you have any questions about our programs\, registration process\, or anything else. We’re here to support you and your family every step of the way. \nI look forward to meeting with you and your children as we build an amazing community together!
URL:https://newbirth.org/event/emerging-generations-is-back-join-us-for-ark-adventures/
CATEGORIES:Announcement,Children,Emerging Generations,Family,Home
ATTACH;FMTTYPE=image/jpeg:https://newbirth.org/wp-content/uploads/2025/09/EG-Children-9.14.jpg
END:VEVENT
BEGIN:VEVENT
DTSTART;TZID=America/New_York:20250914T093000
DTEND;TZID=America/New_York:20250914T113000
DTSTAMP:20260422T191900
CREATED:20250908T212952Z
LAST-MODIFIED:20250910T194655Z
UID:10015681-1757842200-1757849400@newbirth.org
SUMMARY:Emerging Generation ReLaunches Genesis Generation
DESCRIPTION:Greetings Parents! \nThere’s something truly amazing about watching a child take their first steps\, speak their first words\, and discover the world around them with pure wonder and joy. As parents\, we know that these precious early years are foundational \, not just for their development\, but for planting the seeds of faith that will grow with them throughout their lives. \nWe are thrilled to invite you and your little ones (ages 1-3) to be part of something life changing:\nthe launch of Genesis Generation Nursery on Sunday\, September 14th at 9:30 AM \nThis isn’t just childcare – this is where your baby’s spiritual journey begins in the most loving\, nurturing environment. Our heart’s desire is to:\nEquip your children with age-appropriate biblical foundations!\nEngage them through play-based learning and worship!\nEmpower them to know they are fearfully and wonderfully made! \nHere’s what makes Genesis Generation special:\n– Safe\, loving caregivers who see ministry as more than a job\n– Age-appropriate activities that nurture both heart and mind\n– A foundation of faith woven into every song\, story\, and moment\n– Available every 2nd\, 3rd\, and 4th Sunday of each month \nWe believe every child is a gift from God\, and we’re honored you would trust us to pour into their precious lives during these formative years. However\, **spaces are limited** as we want to maintain the intimate\, personalized care your babies deserve. \nReady to join the family? \nRegister here: Genesis Generation Nursery Registration\nWant to stay connected and see all the joy happening in Genesis Generation?\nFollow us on Instagram: Stay KIDNECTED
URL:https://newbirth.org/event/emerging-generation-relaunches-genesis-generation/
CATEGORIES:Announcement,Children,Emerging Generations,Family,Home
ATTACH;FMTTYPE=image/jpeg:https://newbirth.org/wp-content/uploads/2025/09/EG-Genesis-9.25.jpg
END:VEVENT
BEGIN:VEVENT
DTSTART;TZID=America/New_York:20250918T190000
DTEND;TZID=America/New_York:20250918T200000
DTSTAMP:20260422T191900
CREATED:20250914T144909Z
LAST-MODIFIED:20250918T152306Z
UID:10015683-1758222000-1758225600@newbirth.org
SUMMARY:Harvey Foundation Families Virtual Workshop | Thursday\, Sept. 18
DESCRIPTION:Parents\, you are invited to the Harvey Foundation Families Virtual Workshop -How to Set Goals\, Build a Budget & Save Thursday\, September 18 @ 7 PM EST.  You will learn about improving credit and managing debt and more. \nREGISTER HERE
URL:https://newbirth.org/event/harvey-foundation-families-virtual-workshop-thursday-sept-18/
CATEGORIES:Announcement,Family,Home,Special Event
ATTACH;FMTTYPE=image/png:https://newbirth.org/wp-content/uploads/2022/03/nb_logo_medium-e1669479437379.png
END:VEVENT
BEGIN:VEVENT
DTSTART;TZID=America/New_York:20250920T090000
DTEND;TZID=America/New_York:20250920T110000
DTSTAMP:20260422T191900
CREATED:20250916T203808Z
LAST-MODIFIED:20250928T174645Z
UID:10014325-1758358800-1758366000@newbirth.org
SUMMARY:The King's Table
DESCRIPTION:Tell everyone you know to pull-up and pop their trunks on the first and third Saturdays for free groceries. The King’s Table drive-through food distribution begins at 9:00 AM and continues on a first come\, first served basis while supplies last. \nVolunteers are needed! Register here to volunteer at The King’s Table. \nCorporate sponsors and community partners are welcome. Email inquiries to thekingstable@newbirth.org\nTo donate to The King’s Table\, please click here. \n  \n  \n  \n 
URL:https://newbirth.org/event/the-kings-table-8-2-2-2/
CATEGORIES:Announcement,Home,Outreach,The King's Table
ATTACH;FMTTYPE=image/jpeg:https://newbirth.org/wp-content/uploads/2025/05/TKT-August-2025-e1753979580189.jpeg
END:VEVENT
BEGIN:VEVENT
DTSTART;TZID=America/New_York:20250921T081500
DTEND;TZID=America/New_York:20250921T091500
DTSTAMP:20260422T191900
CREATED:20250821T175827Z
LAST-MODIFIED:20250821T180807Z
UID:10015380-1758442500-1758446100@newbirth.org
SUMMARY:Adult Sunday School
DESCRIPTION:You’re Invited to Adult Sunday School!Join us 2nd\, 3rd and 4th Sundays at 8:15 AM for SEEED\, a study designed to: \nStudy God’s WordEquip believers for lifeEmpower discipleshipEngage in fellowshipDisciple others in love \nCome grow with us as we build faith\, community\, and purpose together.
URL:https://newbirth.org/event/adult-sunday-school/2025-09-21/
LOCATION:Outreach Resolution Room
CATEGORIES:Announcement,Home,Outreach
ATTACH;FMTTYPE=image/png:https://newbirth.org/wp-content/uploads/2025/08/Sunday-School-Web-Banner-e1755799403555.png
END:VEVENT
BEGIN:VEVENT
DTSTART;TZID=America/New_York:20250922T070000
DTEND;TZID=America/New_York:20250922T073000
DTSTAMP:20260422T191900
CREATED:20250903T182023Z
LAST-MODIFIED:20250918T152822Z
UID:10015676-1758524400-1758526200@newbirth.org
SUMMARY:Reinvigorate Prayer Call
DESCRIPTION:Let’s Pray Ladies!  Pastor Jewel Allen will be our intercessor.Join us every Monday during Women’s Emphasis Month. \nDial: 720-527-5737Access Code: 2462462# \nLet’s press into prayer together!
URL:https://newbirth.org/event/reinvigorate-prayer-call/
CATEGORIES:Announcement,Home,Special Event,Women
ATTACH;FMTTYPE=image/jpeg:https://newbirth.org/wp-content/uploads/2025/09/Reinvigorate-Pastor-Jewel-Allen-Web-Banner-Event-Page-e1758209253915.jpg
END:VEVENT
BEGIN:VEVENT
DTSTART;TZID=America/New_York:20250922T193000
DTEND;TZID=America/New_York:20250922T203000
DTSTAMP:20260422T191900
CREATED:20250903T182652Z
LAST-MODIFIED:20250918T152315Z
UID:10015677-1758569400-1758573000@newbirth.org
SUMMARY:REINVIGORATE Live Podcast
DESCRIPTION:REINVIGORATE Live Podcast with Brandi Harvey\n\nJoin us for a dynamic\, no-limits conversation with First Lady\, Dr. Karri Bryant and Brandi Harvey. \nBring your squad\, your tribe\, your girlfriends\, this is a can’t-miss moment of empowerment\, inspiration\, and real talk! \nFree. Powerful. Open to ALL. \n\nREGISTER NOW
URL:https://newbirth.org/event/reinvigorate-live-podcast/
CATEGORIES:Announcement,Home,Women
ATTACH;FMTTYPE=image/jpeg:https://newbirth.org/wp-content/uploads/2025/09/Reinvigorate-Podcast-Harvey-scaled-e1756921575503.jpg
END:VEVENT
BEGIN:VEVENT
DTSTART;TZID=America/New_York:20250925T193000
DTEND;TZID=America/New_York:20250925T210000
DTSTAMP:20260422T191900
CREATED:20250909T205637Z
LAST-MODIFIED:20250918T154721Z
UID:10015682-1758828600-1758834000@newbirth.org
SUMMARY:Reinvigorate A Night of Worship + Oil | Childcare Provided
DESCRIPTION:Ladies\, join us Thursday\, Sept. 25 @ 7:30 PM in the Sanctuary with special guest T. Renea Glenn. \nCome expectant—and bring your tribe—for a powerful time in God’s presence!\nAnointing oil will be distributed.\nFree & open to all! \nRecommended attire: all white \nTransportation:  Pickup will be at the Indian Creek Train Station at 6:30 PM. \nREGISTRATION IS REQUIRED\nTHIS SERVICE WILL NOT BE STREAMED.\nChildcare will be provided by our EG Ministry so moms can worship freely.
URL:https://newbirth.org/event/reinvigorate-a-night-of-worship-oil-childcare-provided/
LOCATION:New Birth Cathedral\, 6400 Woodrow Rd\, Stonecrest\, 30038
CATEGORIES:Announcement,Home,Women,Worship Service
ATTACH;FMTTYPE=image/jpeg:https://newbirth.org/wp-content/uploads/2025/09/Reinvigorate-Glenn-Web-Banner-Event-Page-e1757451299743.jpg
END:VEVENT
BEGIN:VEVENT
DTSTART;TZID=America/New_York:20250928T081500
DTEND;TZID=America/New_York:20250928T091500
DTSTAMP:20260422T191900
CREATED:20250821T175827Z
LAST-MODIFIED:20250821T180807Z
UID:10015381-1759047300-1759050900@newbirth.org
SUMMARY:Adult Sunday School
DESCRIPTION:You’re Invited to Adult Sunday School!Join us 2nd\, 3rd and 4th Sundays at 8:15 AM for SEEED\, a study designed to: \nStudy God’s WordEquip believers for lifeEmpower discipleshipEngage in fellowshipDisciple others in love \nCome grow with us as we build faith\, community\, and purpose together.
URL:https://newbirth.org/event/adult-sunday-school/2025-09-28/
LOCATION:Outreach Resolution Room
CATEGORIES:Announcement,Home,Outreach
ATTACH;FMTTYPE=image/png:https://newbirth.org/wp-content/uploads/2025/08/Sunday-School-Web-Banner-e1755799403555.png
END:VEVENT
BEGIN:VEVENT
DTSTART;TZID=America/New_York:20250928T090000
DTEND;TZID=America/New_York:20250928T093000
DTSTAMP:20260422T191900
CREATED:20250907T194233Z
LAST-MODIFIED:20250927T130346Z
UID:10015679-1759050000-1759051800@newbirth.org
SUMMARY:Reinvigorate 1000 Women Praying
DESCRIPTION:Ladies\, meet us at the altar for prayer!  What can move the hand of God\, this nation and the world?  1000 women praying in unity and on one accord.
URL:https://newbirth.org/event/reinvigorate-1000-women-praying/
LOCATION:New Birth Cathedral\, 6400 Woodrow Rd\, Stonecrest\, 30038
CATEGORIES:Announcement,Home,Women
ATTACH;FMTTYPE=image/jpeg:https://newbirth.org/wp-content/uploads/2025/09/Reinvigorate-1000-Women-Praying-Tiffany-Wilson-Web-Banner-Event-Page-e1757274143303.jpg
END:VEVENT
END:VCALENDAR