BEGIN:VCALENDAR
VERSION:2.0
PRODID:-//NEW BIRTH - ECPv6.15.17.1//NONSGML v1.0//EN
CALSCALE:GREGORIAN
METHOD:PUBLISH
X-WR-CALNAME:NEW BIRTH
X-ORIGINAL-URL:https://newbirth.org
X-WR-CALDESC:Events for NEW BIRTH
REFRESH-INTERVAL;VALUE=DURATION:PT1H
X-Robots-Tag:noindex
X-PUBLISHED-TTL:PT1H
BEGIN:VTIMEZONE
TZID:America/New_York
BEGIN:DAYLIGHT
TZOFFSETFROM:-0500
TZOFFSETTO:-0400
TZNAME:EDT
DTSTART:20250309T070000
END:DAYLIGHT
BEGIN:STANDARD
TZOFFSETFROM:-0400
TZOFFSETTO:-0500
TZNAME:EST
DTSTART:20251102T060000
END:STANDARD
BEGIN:DAYLIGHT
TZOFFSETFROM:-0500
TZOFFSETTO:-0400
TZNAME:EDT
DTSTART:20260308T070000
END:DAYLIGHT
BEGIN:STANDARD
TZOFFSETFROM:-0400
TZOFFSETTO:-0500
TZNAME:EST
DTSTART:20261101T060000
END:STANDARD
BEGIN:DAYLIGHT
TZOFFSETFROM:-0500
TZOFFSETTO:-0400
TZNAME:EDT
DTSTART:20270314T070000
END:DAYLIGHT
BEGIN:STANDARD
TZOFFSETFROM:-0400
TZOFFSETTO:-0500
TZNAME:EST
DTSTART:20271107T060000
END:STANDARD
END:VTIMEZONE
BEGIN:VEVENT
DTSTART;VALUE=DATE:20260505
DTEND;VALUE=DATE:20260919
DTSTAMP:20260420T035331
CREATED:20251018T152254Z
LAST-MODIFIED:20260415T164850Z
UID:10016069-1777939200-1789775999@newbirth.org
SUMMARY:New Birth- South Africa - Nov 7 - 15\, 2026
DESCRIPTION:Embark on an unforgettable journey through South Africa\, where history\, wildlife\, and natural beauty converge for a life-changing adventure. From the streets of Johannesburg to the stunning Cape Peninsula\, this tour will immerse you in the rich culture and heritage of a country that fought for freedom and equality. Join us for an experience that promises unforgettable moments\, profound stories\, and breathtaking landscapes—sign up today to be part of this extraordinary journey! \n\nBOOK NOW\nIf  you have questions or need additional information please email info@signaturetours.com.
URL:https://newbirth.org/event/new-birth-south-africa-nov-7-15-2026/
LOCATION:GA
CATEGORIES:Announcement,Home,Special Event
ATTACH;FMTTYPE=image/png:https://newbirth.org/wp-content/uploads/2022/03/nb_logo_medium-e1669479437379.png
END:VEVENT
BEGIN:VEVENT
DTSTART;TZID=America/New_York:20260801T093000
DTEND;TZID=America/New_York:20260801T103000
DTSTAMP:20260420T035331
CREATED:20250816T221431Z
LAST-MODIFIED:20251219T164654Z
UID:10015136-1785576600-1785580200@newbirth.org
SUMMARY:1st Saturday Corporate Prayer
DESCRIPTION:Join us for guided prayer the 1st Saturday of every month.
URL:https://newbirth.org/event/1st-saturday-corporate-prayer/2026-08-01/
LOCATION:New Birth Chapel\, 6400 Woodrow Rd\, Stonecrest\, GA\, 30038
CATEGORIES:Announcement,Home,Prayer
ATTACH;FMTTYPE=image/png:https://newbirth.org/wp-content/uploads/2024/03/Header-Logo-copy-inv.png
END:VEVENT
BEGIN:VEVENT
DTSTART;TZID=America/New_York:20260804T120000
DTEND;TZID=America/New_York:20260804T130000
DTSTAMP:20260420T035331
CREATED:20260202T195601Z
LAST-MODIFIED:20260216T160118Z
UID:10016629-1785844800-1785848400@newbirth.org
SUMMARY:Senior Bible Study
DESCRIPTION:Join us for Midday Bible Study designed especially for our Seasoned Saints. Come enjoy fellowship\, encouragement\, and growth through the Word in a welcoming and supportive environment.
URL:https://newbirth.org/event/senior-bible-study-3/2026-08-04/
LOCATION:Multi-Purpose Room\, 6400 Woodrow Rd\, Stonecrest\, GA\, 30038
CATEGORIES:Announcement,Home,Seniors
ATTACH;FMTTYPE=image/jpeg:https://newbirth.org/wp-content/uploads/2026/01/Senior-Bible-Study-No-date.jpg
END:VEVENT
BEGIN:VEVENT
DTSTART;TZID=America/New_York:20260811T120000
DTEND;TZID=America/New_York:20260811T130000
DTSTAMP:20260420T035331
CREATED:20260202T195601Z
LAST-MODIFIED:20260216T160118Z
UID:10016630-1786449600-1786453200@newbirth.org
SUMMARY:Senior Bible Study
DESCRIPTION:Join us for Midday Bible Study designed especially for our Seasoned Saints. Come enjoy fellowship\, encouragement\, and growth through the Word in a welcoming and supportive environment.
URL:https://newbirth.org/event/senior-bible-study-3/2026-08-11/
LOCATION:Multi-Purpose Room\, 6400 Woodrow Rd\, Stonecrest\, GA\, 30038
CATEGORIES:Announcement,Home,Seniors
ATTACH;FMTTYPE=image/jpeg:https://newbirth.org/wp-content/uploads/2026/01/Senior-Bible-Study-No-date.jpg
END:VEVENT
BEGIN:VEVENT
DTSTART;TZID=America/New_York:20260818T120000
DTEND;TZID=America/New_York:20260818T130000
DTSTAMP:20260420T035331
CREATED:20260202T195601Z
LAST-MODIFIED:20260216T160118Z
UID:10016631-1787054400-1787058000@newbirth.org
SUMMARY:Senior Bible Study
DESCRIPTION:Join us for Midday Bible Study designed especially for our Seasoned Saints. Come enjoy fellowship\, encouragement\, and growth through the Word in a welcoming and supportive environment.
URL:https://newbirth.org/event/senior-bible-study-3/2026-08-18/
LOCATION:Multi-Purpose Room\, 6400 Woodrow Rd\, Stonecrest\, GA\, 30038
CATEGORIES:Announcement,Home,Seniors
ATTACH;FMTTYPE=image/jpeg:https://newbirth.org/wp-content/uploads/2026/01/Senior-Bible-Study-No-date.jpg
END:VEVENT
BEGIN:VEVENT
DTSTART;TZID=America/New_York:20260825T120000
DTEND;TZID=America/New_York:20260825T130000
DTSTAMP:20260420T035331
CREATED:20260202T195601Z
LAST-MODIFIED:20260216T160118Z
UID:10016632-1787659200-1787662800@newbirth.org
SUMMARY:Senior Bible Study
DESCRIPTION:Join us for Midday Bible Study designed especially for our Seasoned Saints. Come enjoy fellowship\, encouragement\, and growth through the Word in a welcoming and supportive environment.
URL:https://newbirth.org/event/senior-bible-study-3/2026-08-25/
LOCATION:Multi-Purpose Room\, 6400 Woodrow Rd\, Stonecrest\, GA\, 30038
CATEGORIES:Announcement,Home,Seniors
ATTACH;FMTTYPE=image/jpeg:https://newbirth.org/wp-content/uploads/2026/01/Senior-Bible-Study-No-date.jpg
END:VEVENT
END:VCALENDAR