BEGIN:VCALENDAR
VERSION:2.0
PRODID:-//NEW BIRTH - ECPv6.15.20//NONSGML v1.0//EN
CALSCALE:GREGORIAN
METHOD:PUBLISH
X-ORIGINAL-URL:https://newbirth.org
X-WR-CALDESC:Events for NEW BIRTH
REFRESH-INTERVAL;VALUE=DURATION:PT1H
X-Robots-Tag:noindex
X-PUBLISHED-TTL:PT1H
BEGIN:VTIMEZONE
TZID:America/New_York
BEGIN:DAYLIGHT
TZOFFSETFROM:-0500
TZOFFSETTO:-0400
TZNAME:EDT
DTSTART:20250309T070000
END:DAYLIGHT
BEGIN:STANDARD
TZOFFSETFROM:-0400
TZOFFSETTO:-0500
TZNAME:EST
DTSTART:20251102T060000
END:STANDARD
BEGIN:DAYLIGHT
TZOFFSETFROM:-0500
TZOFFSETTO:-0400
TZNAME:EDT
DTSTART:20260308T070000
END:DAYLIGHT
BEGIN:STANDARD
TZOFFSETFROM:-0400
TZOFFSETTO:-0500
TZNAME:EST
DTSTART:20261101T060000
END:STANDARD
BEGIN:DAYLIGHT
TZOFFSETFROM:-0500
TZOFFSETTO:-0400
TZNAME:EDT
DTSTART:20270314T070000
END:DAYLIGHT
BEGIN:STANDARD
TZOFFSETFROM:-0400
TZOFFSETTO:-0500
TZNAME:EST
DTSTART:20271107T060000
END:STANDARD
END:VTIMEZONE
BEGIN:VEVENT
DTSTART;TZID=America/New_York:20261003T093000
DTEND;TZID=America/New_York:20261003T103000
DTSTAMP:20260425T103450
CREATED:20250816T221431Z
LAST-MODIFIED:20251219T164654Z
UID:10015138-1791019800-1791023400@newbirth.org
SUMMARY:1st Saturday Corporate Prayer
DESCRIPTION:Join us for guided prayer the 1st Saturday of every month.
URL:https://newbirth.org/event/1st-saturday-corporate-prayer/2026-10-03/
LOCATION:New Birth Chapel\, 6400 Woodrow Rd\, Stonecrest\, GA\, 30038
CATEGORIES:Announcement,Home,Prayer
ATTACH;FMTTYPE=image/png:https://newbirth.org/wp-content/uploads/2024/03/Header-Logo-copy-inv.png
END:VEVENT
BEGIN:VEVENT
DTSTART;TZID=America/New_York:20261006T120000
DTEND;TZID=America/New_York:20261006T130000
DTSTAMP:20260425T103450
CREATED:20260202T195601Z
LAST-MODIFIED:20260216T160118Z
UID:10016638-1791288000-1791291600@newbirth.org
SUMMARY:Senior Bible Study
DESCRIPTION:Join us for Midday Bible Study designed especially for our Seasoned Saints. Come enjoy fellowship\, encouragement\, and growth through the Word in a welcoming and supportive environment.
URL:https://newbirth.org/event/senior-bible-study-3/2026-10-06/
LOCATION:Multi-Purpose Room\, 6400 Woodrow Rd\, Stonecrest\, GA\, 30038
CATEGORIES:Announcement,Home,Seniors
ATTACH;FMTTYPE=image/jpeg:https://newbirth.org/wp-content/uploads/2026/01/Senior-Bible-Study-No-date.jpg
END:VEVENT
BEGIN:VEVENT
DTSTART;TZID=America/New_York:20261013T120000
DTEND;TZID=America/New_York:20261013T130000
DTSTAMP:20260425T103450
CREATED:20260202T195601Z
LAST-MODIFIED:20260216T160118Z
UID:10016639-1791892800-1791896400@newbirth.org
SUMMARY:Senior Bible Study
DESCRIPTION:Join us for Midday Bible Study designed especially for our Seasoned Saints. Come enjoy fellowship\, encouragement\, and growth through the Word in a welcoming and supportive environment.
URL:https://newbirth.org/event/senior-bible-study-3/2026-10-13/
LOCATION:Multi-Purpose Room\, 6400 Woodrow Rd\, Stonecrest\, GA\, 30038
CATEGORIES:Announcement,Home,Seniors
ATTACH;FMTTYPE=image/jpeg:https://newbirth.org/wp-content/uploads/2026/01/Senior-Bible-Study-No-date.jpg
END:VEVENT
BEGIN:VEVENT
DTSTART;TZID=America/New_York:20261020T120000
DTEND;TZID=America/New_York:20261020T130000
DTSTAMP:20260425T103450
CREATED:20260202T195601Z
LAST-MODIFIED:20260216T160118Z
UID:10016640-1792497600-1792501200@newbirth.org
SUMMARY:Senior Bible Study
DESCRIPTION:Join us for Midday Bible Study designed especially for our Seasoned Saints. Come enjoy fellowship\, encouragement\, and growth through the Word in a welcoming and supportive environment.
URL:https://newbirth.org/event/senior-bible-study-3/2026-10-20/
LOCATION:Multi-Purpose Room\, 6400 Woodrow Rd\, Stonecrest\, GA\, 30038
CATEGORIES:Announcement,Home,Seniors
ATTACH;FMTTYPE=image/jpeg:https://newbirth.org/wp-content/uploads/2026/01/Senior-Bible-Study-No-date.jpg
END:VEVENT
BEGIN:VEVENT
DTSTART;TZID=America/New_York:20261027T120000
DTEND;TZID=America/New_York:20261027T130000
DTSTAMP:20260425T103450
CREATED:20260202T195601Z
LAST-MODIFIED:20260216T160118Z
UID:10016641-1793102400-1793106000@newbirth.org
SUMMARY:Senior Bible Study
DESCRIPTION:Join us for Midday Bible Study designed especially for our Seasoned Saints. Come enjoy fellowship\, encouragement\, and growth through the Word in a welcoming and supportive environment.
URL:https://newbirth.org/event/senior-bible-study-3/2026-10-27/
LOCATION:Multi-Purpose Room\, 6400 Woodrow Rd\, Stonecrest\, GA\, 30038
CATEGORIES:Announcement,Home,Seniors
ATTACH;FMTTYPE=image/jpeg:https://newbirth.org/wp-content/uploads/2026/01/Senior-Bible-Study-No-date.jpg
END:VEVENT
END:VCALENDAR