BEGIN:VCALENDAR
VERSION:2.0
PRODID:-//NEW BIRTH - ECPv6.15.20//NONSGML v1.0//EN
CALSCALE:GREGORIAN
METHOD:PUBLISH
X-ORIGINAL-URL:https://newbirth.org
X-WR-CALDESC:Events for NEW BIRTH
REFRESH-INTERVAL;VALUE=DURATION:PT1H
X-Robots-Tag:noindex
X-PUBLISHED-TTL:PT1H
BEGIN:VTIMEZONE
TZID:America/New_York
BEGIN:DAYLIGHT
TZOFFSETFROM:-0500
TZOFFSETTO:-0400
TZNAME:EDT
DTSTART:20240310T070000
END:DAYLIGHT
BEGIN:STANDARD
TZOFFSETFROM:-0400
TZOFFSETTO:-0500
TZNAME:EST
DTSTART:20241103T060000
END:STANDARD
BEGIN:DAYLIGHT
TZOFFSETFROM:-0500
TZOFFSETTO:-0400
TZNAME:EDT
DTSTART:20250309T070000
END:DAYLIGHT
BEGIN:STANDARD
TZOFFSETFROM:-0400
TZOFFSETTO:-0500
TZNAME:EST
DTSTART:20251102T060000
END:STANDARD
BEGIN:DAYLIGHT
TZOFFSETFROM:-0500
TZOFFSETTO:-0400
TZNAME:EDT
DTSTART:20260308T070000
END:DAYLIGHT
BEGIN:STANDARD
TZOFFSETFROM:-0400
TZOFFSETTO:-0500
TZNAME:EST
DTSTART:20261101T060000
END:STANDARD
END:VTIMEZONE
BEGIN:VEVENT
DTSTART;TZID=America/New_York:20250814T120000
DTEND;TZID=America/New_York:20250814T130000
DTSTAMP:20260425T104142
CREATED:20250729T141214Z
LAST-MODIFIED:20250812T171316Z
UID:10015009-1755172800-1755176400@newbirth.org
SUMMARY:Senior Tech Thursdays
DESCRIPTION:Join us this August for Senior Tech Thursdays—a dynamic series designed to empower our seasoned saints with essential digital skills. Each Thursday\, we’ll explore the basics of artificial intelligence\, navigating social media\, and protecting yourself online from scams and fraud. \nWhether you’re tech-savvy or just getting started\, this is a safe space to learn\, ask questions\, and grow in confidence with today’s technology. \nThe sessions are one hour every Thursday in August beginning 8/14 from Noon to 1:00 PM. \nBring your laptop or tablet and join in-person in the New Citizens Room or online via Zoom. \nREGISTER HERE
URL:https://newbirth.org/event/senior-tech-thursdays/2025-08-14/
LOCATION:New Citizen’s Room\, 6400 Woodrow Rd\, Stonecrest\, GA\, 30038
CATEGORIES:Announcement,Home,Seniors
ATTACH;FMTTYPE=image/jpeg:https://newbirth.org/wp-content/uploads/2025/07/Senior-Tech-Thursdays-Web-Banner-scaled.jpg
END:VEVENT
BEGIN:VEVENT
DTSTART;TZID=America/New_York:20250821T120000
DTEND;TZID=America/New_York:20250821T130000
DTSTAMP:20260425T104142
CREATED:20250729T141214Z
LAST-MODIFIED:20250812T171316Z
UID:10015010-1755777600-1755781200@newbirth.org
SUMMARY:Senior Tech Thursdays
DESCRIPTION:Join us this August for Senior Tech Thursdays—a dynamic series designed to empower our seasoned saints with essential digital skills. Each Thursday\, we’ll explore the basics of artificial intelligence\, navigating social media\, and protecting yourself online from scams and fraud. \nWhether you’re tech-savvy or just getting started\, this is a safe space to learn\, ask questions\, and grow in confidence with today’s technology. \nThe sessions are one hour every Thursday in August beginning 8/14 from Noon to 1:00 PM. \nBring your laptop or tablet and join in-person in the New Citizens Room or online via Zoom. \nREGISTER HERE
URL:https://newbirth.org/event/senior-tech-thursdays/2025-08-21/
LOCATION:New Citizen’s Room\, 6400 Woodrow Rd\, Stonecrest\, GA\, 30038
CATEGORIES:Announcement,Home,Seniors
ATTACH;FMTTYPE=image/jpeg:https://newbirth.org/wp-content/uploads/2025/07/Senior-Tech-Thursdays-Web-Banner-scaled.jpg
END:VEVENT
BEGIN:VEVENT
DTSTART;TZID=America/New_York:20250828T120000
DTEND;TZID=America/New_York:20250828T130000
DTSTAMP:20260425T104142
CREATED:20250729T141214Z
LAST-MODIFIED:20250812T171316Z
UID:10015011-1756382400-1756386000@newbirth.org
SUMMARY:Senior Tech Thursdays
DESCRIPTION:Join us this August for Senior Tech Thursdays—a dynamic series designed to empower our seasoned saints with essential digital skills. Each Thursday\, we’ll explore the basics of artificial intelligence\, navigating social media\, and protecting yourself online from scams and fraud. \nWhether you’re tech-savvy or just getting started\, this is a safe space to learn\, ask questions\, and grow in confidence with today’s technology. \nThe sessions are one hour every Thursday in August beginning 8/14 from Noon to 1:00 PM. \nBring your laptop or tablet and join in-person in the New Citizens Room or online via Zoom. \nREGISTER HERE
URL:https://newbirth.org/event/senior-tech-thursdays/2025-08-28/
LOCATION:New Citizen’s Room\, 6400 Woodrow Rd\, Stonecrest\, GA\, 30038
CATEGORIES:Announcement,Home,Seniors
ATTACH;FMTTYPE=image/jpeg:https://newbirth.org/wp-content/uploads/2025/07/Senior-Tech-Thursdays-Web-Banner-scaled.jpg
END:VEVENT
END:VCALENDAR