BEGIN:VCALENDAR
VERSION:2.0
PRODID:-//NEW BIRTH - ECPv6.15.20//NONSGML v1.0//EN
CALSCALE:GREGORIAN
METHOD:PUBLISH
X-WR-CALNAME:NEW BIRTH
X-ORIGINAL-URL:https://newbirth.org
X-WR-CALDESC:Events for NEW BIRTH
REFRESH-INTERVAL;VALUE=DURATION:PT1H
X-Robots-Tag:noindex
X-PUBLISHED-TTL:PT1H
BEGIN:VTIMEZONE
TZID:America/New_York
BEGIN:DAYLIGHT
TZOFFSETFROM:-0500
TZOFFSETTO:-0400
TZNAME:EDT
DTSTART:20250309T070000
END:DAYLIGHT
BEGIN:STANDARD
TZOFFSETFROM:-0400
TZOFFSETTO:-0500
TZNAME:EST
DTSTART:20251102T060000
END:STANDARD
BEGIN:DAYLIGHT
TZOFFSETFROM:-0500
TZOFFSETTO:-0400
TZNAME:EDT
DTSTART:20260308T070000
END:DAYLIGHT
BEGIN:STANDARD
TZOFFSETFROM:-0400
TZOFFSETTO:-0500
TZNAME:EST
DTSTART:20261101T060000
END:STANDARD
BEGIN:DAYLIGHT
TZOFFSETFROM:-0500
TZOFFSETTO:-0400
TZNAME:EDT
DTSTART:20270314T070000
END:DAYLIGHT
BEGIN:STANDARD
TZOFFSETFROM:-0400
TZOFFSETTO:-0500
TZNAME:EST
DTSTART:20271107T060000
END:STANDARD
END:VTIMEZONE
BEGIN:VEVENT
DTSTART;TZID=America/New_York:20260602T120000
DTEND;TZID=America/New_York:20260602T130000
DTSTAMP:20260422T185925
CREATED:20260202T195601Z
LAST-MODIFIED:20260216T160118Z
UID:10016620-1780401600-1780405200@newbirth.org
SUMMARY:Senior Bible Study
DESCRIPTION:Join us for Midday Bible Study designed especially for our Seasoned Saints. Come enjoy fellowship\, encouragement\, and growth through the Word in a welcoming and supportive environment.
URL:https://newbirth.org/event/senior-bible-study-3/2026-06-02/
LOCATION:Multi-Purpose Room\, 6400 Woodrow Rd\, Stonecrest\, GA\, 30038
CATEGORIES:Announcement,Home,Seniors
ATTACH;FMTTYPE=image/jpeg:https://newbirth.org/wp-content/uploads/2026/01/Senior-Bible-Study-No-date.jpg
END:VEVENT
BEGIN:VEVENT
DTSTART;TZID=America/New_York:20260609T120000
DTEND;TZID=America/New_York:20260609T130000
DTSTAMP:20260422T185925
CREATED:20260202T195601Z
LAST-MODIFIED:20260216T160118Z
UID:10016621-1781006400-1781010000@newbirth.org
SUMMARY:Senior Bible Study
DESCRIPTION:Join us for Midday Bible Study designed especially for our Seasoned Saints. Come enjoy fellowship\, encouragement\, and growth through the Word in a welcoming and supportive environment.
URL:https://newbirth.org/event/senior-bible-study-3/2026-06-09/
LOCATION:Multi-Purpose Room\, 6400 Woodrow Rd\, Stonecrest\, GA\, 30038
CATEGORIES:Announcement,Home,Seniors
ATTACH;FMTTYPE=image/jpeg:https://newbirth.org/wp-content/uploads/2026/01/Senior-Bible-Study-No-date.jpg
END:VEVENT
BEGIN:VEVENT
DTSTART;TZID=America/New_York:20260616T120000
DTEND;TZID=America/New_York:20260616T130000
DTSTAMP:20260422T185925
CREATED:20260202T195601Z
LAST-MODIFIED:20260216T160118Z
UID:10016622-1781611200-1781614800@newbirth.org
SUMMARY:Senior Bible Study
DESCRIPTION:Join us for Midday Bible Study designed especially for our Seasoned Saints. Come enjoy fellowship\, encouragement\, and growth through the Word in a welcoming and supportive environment.
URL:https://newbirth.org/event/senior-bible-study-3/2026-06-16/
LOCATION:Multi-Purpose Room\, 6400 Woodrow Rd\, Stonecrest\, GA\, 30038
CATEGORIES:Announcement,Home,Seniors
ATTACH;FMTTYPE=image/jpeg:https://newbirth.org/wp-content/uploads/2026/01/Senior-Bible-Study-No-date.jpg
END:VEVENT
BEGIN:VEVENT
DTSTART;TZID=America/New_York:20260623T120000
DTEND;TZID=America/New_York:20260623T130000
DTSTAMP:20260422T185925
CREATED:20260202T195601Z
LAST-MODIFIED:20260216T160118Z
UID:10016623-1782216000-1782219600@newbirth.org
SUMMARY:Senior Bible Study
DESCRIPTION:Join us for Midday Bible Study designed especially for our Seasoned Saints. Come enjoy fellowship\, encouragement\, and growth through the Word in a welcoming and supportive environment.
URL:https://newbirth.org/event/senior-bible-study-3/2026-06-23/
LOCATION:Multi-Purpose Room\, 6400 Woodrow Rd\, Stonecrest\, GA\, 30038
CATEGORIES:Announcement,Home,Seniors
ATTACH;FMTTYPE=image/jpeg:https://newbirth.org/wp-content/uploads/2026/01/Senior-Bible-Study-No-date.jpg
END:VEVENT
BEGIN:VEVENT
DTSTART;TZID=America/New_York:20260630T120000
DTEND;TZID=America/New_York:20260630T130000
DTSTAMP:20260422T185925
CREATED:20260202T195601Z
LAST-MODIFIED:20260216T160118Z
UID:10016624-1782820800-1782824400@newbirth.org
SUMMARY:Senior Bible Study
DESCRIPTION:Join us for Midday Bible Study designed especially for our Seasoned Saints. Come enjoy fellowship\, encouragement\, and growth through the Word in a welcoming and supportive environment.
URL:https://newbirth.org/event/senior-bible-study-3/2026-06-30/
LOCATION:Multi-Purpose Room\, 6400 Woodrow Rd\, Stonecrest\, GA\, 30038
CATEGORIES:Announcement,Home,Seniors
ATTACH;FMTTYPE=image/jpeg:https://newbirth.org/wp-content/uploads/2026/01/Senior-Bible-Study-No-date.jpg
END:VEVENT
END:VCALENDAR