BEGIN:VCALENDAR
VERSION:2.0
PRODID:-//NEW BIRTH - ECPv6.15.20//NONSGML v1.0//EN
CALSCALE:GREGORIAN
METHOD:PUBLISH
X-ORIGINAL-URL:https://newbirth.org
X-WR-CALDESC:Events for NEW BIRTH
REFRESH-INTERVAL;VALUE=DURATION:PT1H
X-Robots-Tag:noindex
X-PUBLISHED-TTL:PT1H
BEGIN:VTIMEZONE
TZID:America/New_York
BEGIN:DAYLIGHT
TZOFFSETFROM:-0500
TZOFFSETTO:-0400
TZNAME:EDT
DTSTART:20250309T070000
END:DAYLIGHT
BEGIN:STANDARD
TZOFFSETFROM:-0400
TZOFFSETTO:-0500
TZNAME:EST
DTSTART:20251102T060000
END:STANDARD
BEGIN:DAYLIGHT
TZOFFSETFROM:-0500
TZOFFSETTO:-0400
TZNAME:EDT
DTSTART:20260308T070000
END:DAYLIGHT
BEGIN:STANDARD
TZOFFSETFROM:-0400
TZOFFSETTO:-0500
TZNAME:EST
DTSTART:20261101T060000
END:STANDARD
BEGIN:DAYLIGHT
TZOFFSETFROM:-0500
TZOFFSETTO:-0400
TZNAME:EDT
DTSTART:20270314T070000
END:DAYLIGHT
BEGIN:STANDARD
TZOFFSETFROM:-0400
TZOFFSETTO:-0500
TZNAME:EST
DTSTART:20271107T060000
END:STANDARD
END:VTIMEZONE
BEGIN:VEVENT
DTSTART;TZID=America/New_York:20260707T120000
DTEND;TZID=America/New_York:20260707T130000
DTSTAMP:20260425T104131
CREATED:20260202T195601Z
LAST-MODIFIED:20260216T160118Z
UID:10016625-1783425600-1783429200@newbirth.org
SUMMARY:Senior Bible Study
DESCRIPTION:Join us for Midday Bible Study designed especially for our Seasoned Saints. Come enjoy fellowship\, encouragement\, and growth through the Word in a welcoming and supportive environment.
URL:https://newbirth.org/event/senior-bible-study-3/2026-07-07/
LOCATION:Multi-Purpose Room\, 6400 Woodrow Rd\, Stonecrest\, GA\, 30038
CATEGORIES:Announcement,Home,Seniors
ATTACH;FMTTYPE=image/jpeg:https://newbirth.org/wp-content/uploads/2026/01/Senior-Bible-Study-No-date.jpg
END:VEVENT
BEGIN:VEVENT
DTSTART;TZID=America/New_York:20260714T120000
DTEND;TZID=America/New_York:20260714T130000
DTSTAMP:20260425T104131
CREATED:20260202T195601Z
LAST-MODIFIED:20260216T160118Z
UID:10016626-1784030400-1784034000@newbirth.org
SUMMARY:Senior Bible Study
DESCRIPTION:Join us for Midday Bible Study designed especially for our Seasoned Saints. Come enjoy fellowship\, encouragement\, and growth through the Word in a welcoming and supportive environment.
URL:https://newbirth.org/event/senior-bible-study-3/2026-07-14/
LOCATION:Multi-Purpose Room\, 6400 Woodrow Rd\, Stonecrest\, GA\, 30038
CATEGORIES:Announcement,Home,Seniors
ATTACH;FMTTYPE=image/jpeg:https://newbirth.org/wp-content/uploads/2026/01/Senior-Bible-Study-No-date.jpg
END:VEVENT
BEGIN:VEVENT
DTSTART;TZID=America/New_York:20260721T120000
DTEND;TZID=America/New_York:20260721T130000
DTSTAMP:20260425T104131
CREATED:20260202T195601Z
LAST-MODIFIED:20260216T160118Z
UID:10016627-1784635200-1784638800@newbirth.org
SUMMARY:Senior Bible Study
DESCRIPTION:Join us for Midday Bible Study designed especially for our Seasoned Saints. Come enjoy fellowship\, encouragement\, and growth through the Word in a welcoming and supportive environment.
URL:https://newbirth.org/event/senior-bible-study-3/2026-07-21/
LOCATION:Multi-Purpose Room\, 6400 Woodrow Rd\, Stonecrest\, GA\, 30038
CATEGORIES:Announcement,Home,Seniors
ATTACH;FMTTYPE=image/jpeg:https://newbirth.org/wp-content/uploads/2026/01/Senior-Bible-Study-No-date.jpg
END:VEVENT
BEGIN:VEVENT
DTSTART;TZID=America/New_York:20260728T120000
DTEND;TZID=America/New_York:20260728T130000
DTSTAMP:20260425T104131
CREATED:20260202T195601Z
LAST-MODIFIED:20260216T160118Z
UID:10016628-1785240000-1785243600@newbirth.org
SUMMARY:Senior Bible Study
DESCRIPTION:Join us for Midday Bible Study designed especially for our Seasoned Saints. Come enjoy fellowship\, encouragement\, and growth through the Word in a welcoming and supportive environment.
URL:https://newbirth.org/event/senior-bible-study-3/2026-07-28/
LOCATION:Multi-Purpose Room\, 6400 Woodrow Rd\, Stonecrest\, GA\, 30038
CATEGORIES:Announcement,Home,Seniors
ATTACH;FMTTYPE=image/jpeg:https://newbirth.org/wp-content/uploads/2026/01/Senior-Bible-Study-No-date.jpg
END:VEVENT
END:VCALENDAR