BEGIN:VCALENDAR
VERSION:2.0
PRODID:-//NEW BIRTH - ECPv6.15.17.1//NONSGML v1.0//EN
CALSCALE:GREGORIAN
METHOD:PUBLISH
X-WR-CALNAME:NEW BIRTH
X-ORIGINAL-URL:https://newbirth.org
X-WR-CALDESC:Events for NEW BIRTH
REFRESH-INTERVAL;VALUE=DURATION:PT1H
X-Robots-Tag:noindex
X-PUBLISHED-TTL:PT1H
BEGIN:VTIMEZONE
TZID:America/New_York
BEGIN:DAYLIGHT
TZOFFSETFROM:-0500
TZOFFSETTO:-0400
TZNAME:EDT
DTSTART:20250309T070000
END:DAYLIGHT
BEGIN:STANDARD
TZOFFSETFROM:-0400
TZOFFSETTO:-0500
TZNAME:EST
DTSTART:20251102T060000
END:STANDARD
BEGIN:DAYLIGHT
TZOFFSETFROM:-0500
TZOFFSETTO:-0400
TZNAME:EDT
DTSTART:20260308T070000
END:DAYLIGHT
BEGIN:STANDARD
TZOFFSETFROM:-0400
TZOFFSETTO:-0500
TZNAME:EST
DTSTART:20261101T060000
END:STANDARD
BEGIN:DAYLIGHT
TZOFFSETFROM:-0500
TZOFFSETTO:-0400
TZNAME:EDT
DTSTART:20270314T070000
END:DAYLIGHT
BEGIN:STANDARD
TZOFFSETFROM:-0400
TZOFFSETTO:-0500
TZNAME:EST
DTSTART:20271107T060000
END:STANDARD
END:VTIMEZONE
BEGIN:VEVENT
DTSTART;VALUE=DATE:20260422
DTEND;VALUE=DATE:20260719
DTSTAMP:20260421T075431
CREATED:20260312T155538Z
LAST-MODIFIED:20260420T110725Z
UID:10016923-1776816000-1784419199@newbirth.org
SUMMARY:The King’s Table Gala | July 18
DESCRIPTION:The King’s Table invites you to an unforgettable evening as we celebrate six years of impact\, fellowship\, and service at the 6th Anniversary King’s Table Gala on July 18 at 6:00 PM at Factory Atlanta. \nThis special celebration will bring together community leaders\, supporters\, and partners for a night dedicated to honoring the journey and mission of The King’s Table. Over the past six years\, The King’s Table has worked to uplift and empower the community through outreach\, fellowship\, and meaningful initiatives that create lasting change. \nGuests will enjoy an elegant evening featuring inspiring remarks\, special recognition’s\, entertainment\, and opportunities to connect with others who share a commitment to strengthening our community. The gala will also highlight the accomplishments of The King’s Table and the vision for the years ahead. \nThe King’s Table 6th Anniversary Gala is more than a celebration—it is a moment to reflect on the lives touched\, the partnerships built\, and the continued mission to serve and uplift others. \nWe invite you to join us for this milestone evening as we celebrate six years of purpose\, impact\, and community. \nREGISTER HERE
URL:https://newbirth.org/event/the-kings-table-gala-july-18/
LOCATION:GA
CATEGORIES:Announcement,Home,Outreach,The King's Table
ATTACH;FMTTYPE=image/jpeg:https://newbirth.org/wp-content/uploads/2026/03/TKT-Gala-July-2026-e1776270163434.jpeg
END:VEVENT
END:VCALENDAR