BEGIN:VCALENDAR
VERSION:2.0
PRODID:-//NEW BIRTH - ECPv6.15.17.1//NONSGML v1.0//EN
CALSCALE:GREGORIAN
METHOD:PUBLISH
X-WR-CALNAME:NEW BIRTH
X-ORIGINAL-URL:https://newbirth.org
X-WR-CALDESC:Events for NEW BIRTH
REFRESH-INTERVAL;VALUE=DURATION:PT1H
X-Robots-Tag:noindex
X-PUBLISHED-TTL:PT1H
BEGIN:VTIMEZONE
TZID:America/New_York
BEGIN:DAYLIGHT
TZOFFSETFROM:-0500
TZOFFSETTO:-0400
TZNAME:EDT
DTSTART:20250309T070000
END:DAYLIGHT
BEGIN:STANDARD
TZOFFSETFROM:-0400
TZOFFSETTO:-0500
TZNAME:EST
DTSTART:20251102T060000
END:STANDARD
BEGIN:DAYLIGHT
TZOFFSETFROM:-0500
TZOFFSETTO:-0400
TZNAME:EDT
DTSTART:20260308T070000
END:DAYLIGHT
BEGIN:STANDARD
TZOFFSETFROM:-0400
TZOFFSETTO:-0500
TZNAME:EST
DTSTART:20261101T060000
END:STANDARD
BEGIN:DAYLIGHT
TZOFFSETFROM:-0500
TZOFFSETTO:-0400
TZNAME:EDT
DTSTART:20270314T070000
END:DAYLIGHT
BEGIN:STANDARD
TZOFFSETFROM:-0400
TZOFFSETTO:-0500
TZNAME:EST
DTSTART:20271107T060000
END:STANDARD
END:VTIMEZONE
BEGIN:VEVENT
DTSTART;TZID=America/New_York:20261201T193000
DTEND;TZID=America/New_York:20261201T210000
DTSTAMP:20260419T092658
CREATED:20251125T163853Z
LAST-MODIFIED:20260216T151943Z
UID:10016136-1796153400-1796158800@newbirth.org
SUMMARY:EG Turn Up Tuesday
DESCRIPTION:Where Faith\, Fun\, & Life Skills Collide. \nTurn Up Tuesday is our mid-week experience designed just for kids and teens under the Emerging Generations umbrella. Every Tuesday night\, students come together to grow in God\, build community\, and learn real-life skills in an atmosphere full of joy\, creativity\, and connection. \nFrom interactive Bible lessons to hands-on lessons\,  leadership\, and self-development\, Turn Up Tuesday is the place where the next generation discovers purpose\, explores their gifts\, and strengthens their faith — all while having a blast. \nWhat to Expect \n\nEngaging Bible-based lessons\nFun\, age-appropriate activities for 1years old –12th grade!\nSafe environment led by trained leaders\nPositive friendships & community building\n\nEvery Tuesday\, our youth come ready to learn\, laugh\, worship\, and “turn up” for Jesus!
URL:https://newbirth.org/event/eg-turn-up-tuesday/2026-12-01/
LOCATION:GA
CATEGORIES:Announcement,Emerging Generations,Youth
ATTACH;FMTTYPE=image/jpeg:https://newbirth.org/wp-content/uploads/2025/11/EG-Turn-up-Tuesdays.jpeg
END:VEVENT
BEGIN:VEVENT
DTSTART;TZID=America/New_York:20261208T193000
DTEND;TZID=America/New_York:20261208T210000
DTSTAMP:20260419T092658
CREATED:20251125T163853Z
LAST-MODIFIED:20260216T151943Z
UID:10016137-1796758200-1796763600@newbirth.org
SUMMARY:EG Turn Up Tuesday
DESCRIPTION:Where Faith\, Fun\, & Life Skills Collide. \nTurn Up Tuesday is our mid-week experience designed just for kids and teens under the Emerging Generations umbrella. Every Tuesday night\, students come together to grow in God\, build community\, and learn real-life skills in an atmosphere full of joy\, creativity\, and connection. \nFrom interactive Bible lessons to hands-on lessons\,  leadership\, and self-development\, Turn Up Tuesday is the place where the next generation discovers purpose\, explores their gifts\, and strengthens their faith — all while having a blast. \nWhat to Expect \n\nEngaging Bible-based lessons\nFun\, age-appropriate activities for 1years old –12th grade!\nSafe environment led by trained leaders\nPositive friendships & community building\n\nEvery Tuesday\, our youth come ready to learn\, laugh\, worship\, and “turn up” for Jesus!
URL:https://newbirth.org/event/eg-turn-up-tuesday/2026-12-08/
LOCATION:GA
CATEGORIES:Announcement,Emerging Generations,Youth
ATTACH;FMTTYPE=image/jpeg:https://newbirth.org/wp-content/uploads/2025/11/EG-Turn-up-Tuesdays.jpeg
END:VEVENT
BEGIN:VEVENT
DTSTART;TZID=America/New_York:20261215T193000
DTEND;TZID=America/New_York:20261215T210000
DTSTAMP:20260419T092658
CREATED:20251125T163853Z
LAST-MODIFIED:20260216T151943Z
UID:10016138-1797363000-1797368400@newbirth.org
SUMMARY:EG Turn Up Tuesday
DESCRIPTION:Where Faith\, Fun\, & Life Skills Collide. \nTurn Up Tuesday is our mid-week experience designed just for kids and teens under the Emerging Generations umbrella. Every Tuesday night\, students come together to grow in God\, build community\, and learn real-life skills in an atmosphere full of joy\, creativity\, and connection. \nFrom interactive Bible lessons to hands-on lessons\,  leadership\, and self-development\, Turn Up Tuesday is the place where the next generation discovers purpose\, explores their gifts\, and strengthens their faith — all while having a blast. \nWhat to Expect \n\nEngaging Bible-based lessons\nFun\, age-appropriate activities for 1years old –12th grade!\nSafe environment led by trained leaders\nPositive friendships & community building\n\nEvery Tuesday\, our youth come ready to learn\, laugh\, worship\, and “turn up” for Jesus!
URL:https://newbirth.org/event/eg-turn-up-tuesday/2026-12-15/
LOCATION:GA
CATEGORIES:Announcement,Emerging Generations,Youth
ATTACH;FMTTYPE=image/jpeg:https://newbirth.org/wp-content/uploads/2025/11/EG-Turn-up-Tuesdays.jpeg
END:VEVENT
BEGIN:VEVENT
DTSTART;TZID=America/New_York:20261222T193000
DTEND;TZID=America/New_York:20261222T210000
DTSTAMP:20260419T092658
CREATED:20251125T163853Z
LAST-MODIFIED:20260216T151943Z
UID:10016139-1797967800-1797973200@newbirth.org
SUMMARY:EG Turn Up Tuesday
DESCRIPTION:Where Faith\, Fun\, & Life Skills Collide. \nTurn Up Tuesday is our mid-week experience designed just for kids and teens under the Emerging Generations umbrella. Every Tuesday night\, students come together to grow in God\, build community\, and learn real-life skills in an atmosphere full of joy\, creativity\, and connection. \nFrom interactive Bible lessons to hands-on lessons\,  leadership\, and self-development\, Turn Up Tuesday is the place where the next generation discovers purpose\, explores their gifts\, and strengthens their faith — all while having a blast. \nWhat to Expect \n\nEngaging Bible-based lessons\nFun\, age-appropriate activities for 1years old –12th grade!\nSafe environment led by trained leaders\nPositive friendships & community building\n\nEvery Tuesday\, our youth come ready to learn\, laugh\, worship\, and “turn up” for Jesus!
URL:https://newbirth.org/event/eg-turn-up-tuesday/2026-12-22/
LOCATION:GA
CATEGORIES:Announcement,Emerging Generations,Youth
ATTACH;FMTTYPE=image/jpeg:https://newbirth.org/wp-content/uploads/2025/11/EG-Turn-up-Tuesdays.jpeg
END:VEVENT
BEGIN:VEVENT
DTSTART;TZID=America/New_York:20261229T193000
DTEND;TZID=America/New_York:20261229T210000
DTSTAMP:20260419T092658
CREATED:20251125T163853Z
LAST-MODIFIED:20260216T151943Z
UID:10016140-1798572600-1798578000@newbirth.org
SUMMARY:EG Turn Up Tuesday
DESCRIPTION:Where Faith\, Fun\, & Life Skills Collide. \nTurn Up Tuesday is our mid-week experience designed just for kids and teens under the Emerging Generations umbrella. Every Tuesday night\, students come together to grow in God\, build community\, and learn real-life skills in an atmosphere full of joy\, creativity\, and connection. \nFrom interactive Bible lessons to hands-on lessons\,  leadership\, and self-development\, Turn Up Tuesday is the place where the next generation discovers purpose\, explores their gifts\, and strengthens their faith — all while having a blast. \nWhat to Expect \n\nEngaging Bible-based lessons\nFun\, age-appropriate activities for 1years old –12th grade!\nSafe environment led by trained leaders\nPositive friendships & community building\n\nEvery Tuesday\, our youth come ready to learn\, laugh\, worship\, and “turn up” for Jesus!
URL:https://newbirth.org/event/eg-turn-up-tuesday/2026-12-29/
LOCATION:GA
CATEGORIES:Announcement,Emerging Generations,Youth
ATTACH;FMTTYPE=image/jpeg:https://newbirth.org/wp-content/uploads/2025/11/EG-Turn-up-Tuesdays.jpeg
END:VEVENT
END:VCALENDAR