BEGIN:VCALENDAR
VERSION:2.0
PRODID:-//NEW BIRTH - ECPv6.15.17.1//NONSGML v1.0//EN
CALSCALE:GREGORIAN
METHOD:PUBLISH
X-ORIGINAL-URL:https://newbirth.org
X-WR-CALDESC:Events for NEW BIRTH
REFRESH-INTERVAL;VALUE=DURATION:PT1H
X-Robots-Tag:noindex
X-PUBLISHED-TTL:PT1H
BEGIN:VTIMEZONE
TZID:UTC
BEGIN:STANDARD
TZOFFSETFROM:+0000
TZOFFSETTO:+0000
TZNAME:UTC
DTSTART:20240101T000000
END:STANDARD
END:VTIMEZONE
BEGIN:VTIMEZONE
TZID:America/New_York
BEGIN:DAYLIGHT
TZOFFSETFROM:-0500
TZOFFSETTO:-0400
TZNAME:EDT
DTSTART:20240310T070000
END:DAYLIGHT
BEGIN:STANDARD
TZOFFSETFROM:-0400
TZOFFSETTO:-0500
TZNAME:EST
DTSTART:20241103T060000
END:STANDARD
BEGIN:DAYLIGHT
TZOFFSETFROM:-0500
TZOFFSETTO:-0400
TZNAME:EDT
DTSTART:20250309T070000
END:DAYLIGHT
BEGIN:STANDARD
TZOFFSETFROM:-0400
TZOFFSETTO:-0500
TZNAME:EST
DTSTART:20251102T060000
END:STANDARD
BEGIN:DAYLIGHT
TZOFFSETFROM:-0500
TZOFFSETTO:-0400
TZNAME:EDT
DTSTART:20260308T070000
END:DAYLIGHT
BEGIN:STANDARD
TZOFFSETFROM:-0400
TZOFFSETTO:-0500
TZNAME:EST
DTSTART:20261101T060000
END:STANDARD
END:VTIMEZONE
BEGIN:VEVENT
DTSTART;TZID=UTC:20250511T093000
DTEND;TZID=UTC:20250511T113000
DTSTAMP:20260421T111634
CREATED:20220412T012446Z
LAST-MODIFIED:20250424T205216Z
UID:10005699-1746955800-1746963000@newbirth.org
SUMMARY:Mother's Day Celebration
DESCRIPTION:This Mother’s Day\, we warmly invite you and your family to a heartfelt worship service celebrating the extraordinary women who have nurtured\, led\, and loved with unwavering grace and strength. \nWe are honored to welcome Y’Anna Crawley\, acclaimed gospel artist and winner of BET’s Sunday Best\, as our special guest. Her powerful voice and testimony will uplift and inspire as we come together in praise and gratitude. \nAs Proverbs 31:28 reminds us\, “Her children arise and call her blessed.” \nJoin us for this unforgettable experience—share it with your entire family and help us honor the mothers who make our world better every day.
URL:https://newbirth.org/event/mothers-day-celebration/
LOCATION:New Birth Cathedral\, 6400 Woodrow Rd\, Stonecrest\, 30038
CATEGORIES:Announcement,Family,Home,Women
ATTACH;FMTTYPE=image/jpeg:https://newbirth.org/wp-content/uploads/2022/04/Mothers-Day-May-2025-Web-scaled.jpg
END:VEVENT
BEGIN:VEVENT
DTSTART;TZID=America/New_York:20250518T093000
DTEND;TZID=America/New_York:20250518T113000
DTSTAMP:20260421T111634
CREATED:20250423T193012Z
LAST-MODIFIED:20250517T142038Z
UID:10012159-1747560600-1747567800@newbirth.org
SUMMARY:Join Us in Honoring Our Senior Pastor!
DESCRIPTION:New Birth: We’re celebrating the birthday of Dr. Jamal Bryant tomorrow at 9:30 AM. Come honor a leader who serves with passion and purpose. Prepare your heart and spirit for the transformative ministry of Bishop Donte Hickman and an unforgettable worship experience with Kim Burrell. Let’s pack the sanctuary and show love to our pastor in a big way!
URL:https://newbirth.org/event/join-us-in-honoring-our-senior-pastor-2/
LOCATION:New Birth Cathedral\, 6400 Woodrow Rd\, Stonecrest\, 30038
CATEGORIES:Announcement,Event,Home,Worship Service
ATTACH;FMTTYPE=image/png:https://newbirth.org/wp-content/uploads/2025/04/Dr.-Bryant-Birthday-05.18.25-SMS-e1747491627718.png
END:VEVENT
END:VCALENDAR