BEGIN:VCALENDAR
VERSION:2.0
PRODID:-//NEW BIRTH - ECPv6.15.17.1//NONSGML v1.0//EN
CALSCALE:GREGORIAN
METHOD:PUBLISH
X-WR-CALNAME:NEW BIRTH
X-ORIGINAL-URL:https://newbirth.org
X-WR-CALDESC:Events for NEW BIRTH
REFRESH-INTERVAL;VALUE=DURATION:PT1H
X-Robots-Tag:noindex
X-PUBLISHED-TTL:PT1H
BEGIN:VTIMEZONE
TZID:America/New_York
BEGIN:DAYLIGHT
TZOFFSETFROM:-0500
TZOFFSETTO:-0400
TZNAME:EDT
DTSTART:20250309T070000
END:DAYLIGHT
BEGIN:STANDARD
TZOFFSETFROM:-0400
TZOFFSETTO:-0500
TZNAME:EST
DTSTART:20251102T060000
END:STANDARD
BEGIN:DAYLIGHT
TZOFFSETFROM:-0500
TZOFFSETTO:-0400
TZNAME:EDT
DTSTART:20260308T070000
END:DAYLIGHT
BEGIN:STANDARD
TZOFFSETFROM:-0400
TZOFFSETTO:-0500
TZNAME:EST
DTSTART:20261101T060000
END:STANDARD
BEGIN:DAYLIGHT
TZOFFSETFROM:-0500
TZOFFSETTO:-0400
TZNAME:EDT
DTSTART:20270314T070000
END:DAYLIGHT
BEGIN:STANDARD
TZOFFSETFROM:-0400
TZOFFSETTO:-0500
TZNAME:EST
DTSTART:20271107T060000
END:STANDARD
END:VTIMEZONE
BEGIN:VEVENT
DTSTART;TZID=America/New_York:20260423T190000
DTEND;TZID=America/New_York:20260423T210000
DTSTAMP:20260421T110511
CREATED:20260415T163421Z
LAST-MODIFIED:20260415T165521Z
UID:10016943-1776970800-1776978000@newbirth.org
SUMMARY:Couples United: The Power of Forgiveness 
DESCRIPTION:Join us for a powerful in-person gathering focused on Healing Past Wounds and Practicing Forgiveness. This session will include a dynamic teaching on forgiveness\, grounded in scripture\, followed by a meaningful time of extended worship\, testimonies\, and prayer. Couples will have the opportunity to reflect on areas where healing is needed and receive prayer support in a welcoming and Spirit-led environment. Whether you are working through deep wounds or simply seeking to strengthen your connection\, this night is designed to bring renewal\, restoration\, and hope. \nREGISTER HERE
URL:https://newbirth.org/event/couples-united-the-power-of-forgiveness/
LOCATION:New Birth Library
CATEGORIES:Announcement,Family,Home,Marriage Ministry,Outreach
ATTACH;FMTTYPE=image/png:https://newbirth.org/wp-content/uploads/2022/03/nb_logo_medium-e1669479437379.png
END:VEVENT
END:VCALENDAR