BEGIN:VCALENDAR
VERSION:2.0
PRODID:-//NEW BIRTH - ECPv6.15.20//NONSGML v1.0//EN
CALSCALE:GREGORIAN
METHOD:PUBLISH
X-ORIGINAL-URL:https://newbirth.org
X-WR-CALDESC:Events for NEW BIRTH
REFRESH-INTERVAL;VALUE=DURATION:PT1H
X-Robots-Tag:noindex
X-PUBLISHED-TTL:PT1H
BEGIN:VTIMEZONE
TZID:America/New_York
BEGIN:DAYLIGHT
TZOFFSETFROM:-0500
TZOFFSETTO:-0400
TZNAME:EDT
DTSTART:20230312T070000
END:DAYLIGHT
BEGIN:STANDARD
TZOFFSETFROM:-0400
TZOFFSETTO:-0500
TZNAME:EST
DTSTART:20231105T060000
END:STANDARD
BEGIN:DAYLIGHT
TZOFFSETFROM:-0500
TZOFFSETTO:-0400
TZNAME:EDT
DTSTART:20240310T070000
END:DAYLIGHT
BEGIN:STANDARD
TZOFFSETFROM:-0400
TZOFFSETTO:-0500
TZNAME:EST
DTSTART:20241103T060000
END:STANDARD
BEGIN:DAYLIGHT
TZOFFSETFROM:-0500
TZOFFSETTO:-0400
TZNAME:EDT
DTSTART:20250309T070000
END:DAYLIGHT
BEGIN:STANDARD
TZOFFSETFROM:-0400
TZOFFSETTO:-0500
TZNAME:EST
DTSTART:20251102T060000
END:STANDARD
BEGIN:DAYLIGHT
TZOFFSETFROM:-0500
TZOFFSETTO:-0400
TZNAME:EDT
DTSTART:20260308T070000
END:DAYLIGHT
BEGIN:STANDARD
TZOFFSETFROM:-0400
TZOFFSETTO:-0500
TZNAME:EST
DTSTART:20261101T060000
END:STANDARD
END:VTIMEZONE
BEGIN:VEVENT
DTSTART;TZID=America/New_York:20250202T093000
DTEND;TZID=America/New_York:20250202T113000
DTSTAMP:20260424T083043
CREATED:20250114T212013Z
LAST-MODIFIED:20250129T213818Z
UID:10013860-1738488600-1738495800@newbirth.org
SUMMARY:Welcome Home Sunday!
DESCRIPTION:Welcome home\, family! This is your invitation to something truly special. New Birth is opening its doors to EVERYONE—those who’ve been here for years\, those who are new\, and those ready to reconnect. It’s Welcome Home Sunday! \nLet’s gather together as one big family for a day filled with love\, worship\, and community. Whether it’s been a while since you’ve joined us\, or you’re here every week\, this Sunday is FOR YOU. \nBring your friends\, your family\, and your neighbors. There’s a seat just for you! Let’s celebrate the joy of being together and what it means to truly belong \nCyber Members Join Us Here:
URL:https://newbirth.org/event/welcome-home-sunday/
LOCATION:New Birth Cathedral\, 6400 Woodrow Rd\, Stonecrest\, 30038
CATEGORIES:Announcement,Home,Worship Service
ATTACH;FMTTYPE=image/jpeg:https://newbirth.org/wp-content/uploads/2025/01/Welcome-Home-Web-2025-scaled-e1736889575932.jpg
END:VEVENT
BEGIN:VEVENT
DTSTART;VALUE=DATE:20240625
DTEND;VALUE=DATE:20240628
DTSTAMP:20260424T083043
CREATED:20240508T221003Z
LAST-MODIFIED:20240614T135738Z
UID:10012313-1719273600-1719532799@newbirth.org
SUMMARY:INNOV8 Conference | June 25- 27
DESCRIPTION:We’re back and better than ever! INNOV8 returns for its second year! Get ready to transform your thinking and unleash creativity. Join us for three days of powerful speakers\, inspiring performances\, and invaluable networking opportunities.\nInspiring Speakers:\nGet equipped\, empowered\, and engaged with our incredible lineup of speakers:\n\nTuesday: Prophet Lovy Elias will kick off the conference\, setting the tone with his profound insights and wisdom.  Musical guest:  New Birth W & A\nWednesday: Dr. Cindy Trimm takes the stage\, bringing her renowned expertise and transformative teachings. Musical guest:  Will Johnson\nThursday: Prophet Brian Carn closes the event with a powerful message that will resonate long after the conference ends. Musical guest:  Melvin Crispell\n\nDynamic Performances:\nEach day will be filled with worship and inspiration\, featuring performances by the talented Melvin Crispell and many more. Prepare to be moved and uplifted by soulful music and powerful messages.\nAmerican Sesh:\nStarting at 3 PM daily\, don’t miss the American Sesh. This unique session features serial entrepreneur Pinky Cole\, who will host a masterclass designed for budding entrepreneurs. In a format reminiscent of Shark Tank\, pitch your innovative ideas and change the trajectory of your brand.\nREGISTER FOR INNOV8\nREGISTER FOR AMERICAN SESH \nREGISTER TO VOLUNTEER
URL:https://newbirth.org/event/innov8-conference-june-25-27/
LOCATION:New Birth Cathedral\, 6400 Woodrow Rd\, Stonecrest\, 30038
CATEGORIES:Announcement,Conference,Home
ATTACH;FMTTYPE=image/png:https://newbirth.org/wp-content/uploads/2024/05/nb_nov8_webbanner-e1718373449159.png
END:VEVENT
BEGIN:VEVENT
DTSTART;TZID=America/New_York:20240214T073000
DTEND;TZID=America/New_York:20240214T080000
DTSTAMP:20260424T083043
CREATED:20230215T134812Z
LAST-MODIFIED:20240212T171836Z
UID:10011726-1707895800-1707897600@newbirth.org
SUMMARY:Ash Experience Group Therapy
DESCRIPTION:Mark your calendars for a special Ash Experience Group Therapy. As we embark on the Lenten season leading up to Resurrection Sunday\, each participant will receive a symbolic pack of ashes\, signifying repentance and renewal.\n\nThen\, on Ash Wednesday\, February 14\, at 7 AM\, take advantage of our virtual service streaming across all our social platforms. Dr. Bryant will gracefully guide you through the sacred ritual of anointing yourself with ashes\, marking the beginning of this significant season.\n\n  \n 
URL:https://newbirth.org/event/ash-experience-group-therapy/2024-02-14/
LOCATION:New Birth Cathedral\, 6400 Woodrow Rd\, Stonecrest\, 30038
CATEGORIES:Announcement,Worship Service
ATTACH;FMTTYPE=image/jpeg:https://newbirth.org/wp-content/uploads/2023/02/Ash_wednesday_web_banner-600x400-1.jpg
END:VEVENT
END:VCALENDAR